BEGIN:VCALENDAR
PRODID:-//CDC//WCMS//EN
VERSION:2.0
METHOD:PUBLISH
X-MS-OLK-FORCEINSPECTOROPEN:TRUE
BEGIN:VEVENT
CLASS:PUBLIC
CREATED:20210820T170905Z
DTSTAMP:20210820T170905Z
DTSTART:20210901T170000Z
DTEND:20210901T180000Z
LAST-MODIFIED:20210820T170905Z
LOCATION:
X-ALT-DESC;FMTTYPE=text/html:<p><strong>Webinar Title: <a href="https://emergency.cdc.gov/epic/learn/2021/webinar_20210901.asp">Engaging with Disaster Citizen Science: Toolkits for Local Health Departments and Community Groups to Improve Community Preparedness</a><br></strong><br><strong>Overview</strong><strong>: </strong>Disaster citizen science engages members of the public in scientific activities related to disaster preparedness, response, and recovery. The public health benefits of citizen science include community empowerment and improved disaster operations through data collection.</p><p>Two new toolkits developed through a contract with CDC can help communities and health departments learn more about disaster citizen science and how to apply it.</p><p>Join CDC&rsquo;s EPIC Team and RAND Corporation,&nbsp;<strong>Wednesday, September 1, at 1 p.m., ET</strong>&nbsp;for a webinar to introduce participants to the growing field of disaster citizen science and toolkits that can help improve, both preparedness outcomes and community resilience.</p><p><strong>Date</strong>: Wednesday September 1st, 2020</p><p><strong>Time</strong>: 1 p.m. to 2:00 p.m. (Eastern Time)</p><p><strong>Webinar Link</strong>: <a href="https://www.zoomgov.com/j/1609513502?pwd=THdDTklocVVpUCtTektsK3ZiOTNZdz09" target="_blank" rel="noopener">https://www.zoomgov.com/j/1609513502</a> (Passcode: 221824)</p><p><strong>Dial In</strong>: US: +1 669 254 5252 or +1 646 828 7666 or +1 551 285 1373 or +1 669 216 1590</p><p><strong>Or One tap mobile</strong>: &nbsp;US: +16692545252,,1609513502#,,,,*221824# or +16468287666,,1609513502#,,,,*221824#</p><p><strong>International numbers</strong>: <a href="https://www.zoomgov.com/u/afDpufKR9">https://www.zoomgov.com/u/afDpufKR9</a></p><p><strong>Webinar ID</strong>: 160 951 3502 (Passcode: 221824)</p>
SUMMARY:Engaging with Disaster Citizen Science: Toolkits for Local Health Departments and Community Groups to Improve Community Preparedness
TRANSP:OPAQUE
UID:611fe1b1f2327
URL:https://emergency.cdc.gov/epic/learn/event-links/webinar_20210901.ics
END:VEVENT
END:VCALENDAR
