BEGIN:VCALENDAR
PRODID:-//CDC//WCMS//EN
VERSION:2.0
METHOD:PUBLISH
X-MS-OLK-FORCEINSPECTOROPEN:TRUE
BEGIN:VEVENT
CLASS:PUBLIC
CREATED:20201020T132128Z
DTSTAMP:20201020T132128Z
DTSTART:20201021T190000Z
DTEND:20201021T200000Z
LAST-MODIFIED:20201020T132128Z
LOCATION:
X-ALT-DESC;FMTTYPE=text/html:<p><strong>Webinar Title: <a href="/epic/learn/2020/webinar_20201021.asp">Promising Practices in Health Equity: Obesity-Related Risk During COVID-19 and Barriers to Active Living</a><br></strong><br><strong>Overview</strong><strong>: </strong>Obesity is a complex disease with many contributing factors, but Hispanic and non-Hispanic Black adults have a higher prevalence of obesity and are more likely to suffer worse outcomes from COVID-19. In addition, historically some racial and ethnic minority groups have not had broad opportunities for economic, physical, and emotional health, and these inequities have increased the risk of more severe illness or dying from COVID-19. Creating a nation in which everyone has access to safe and convenient opportunities for active living requires teamwork including expertise from those in public health, transportation, planning, business, healthcare, and parks and recreation.</p><p><strong>Date</strong>: Wednesday October 21<sup>st</sup>, 2020</p><p><strong>Time</strong>: 3 p.m. to 4 p.m. (Eastern Time)</p><p><strong>Webinar Link</strong>: <a href="https://www.zoomgov.com/j/1609251439?pwd=dnRxUlZFNlNMVnpKOU9VQWxkc29ZZz09" target="_blank" rel="noopener noreferrer">https://www.zoomgov.com/j/1609251439</a> (Passcode: 472885)</p><p><strong>Dial In</strong>: US: +1 669 254 5252&nbsp; or +1 646 828 7666</p><p><strong>Or iPhone one-tap</strong>: &nbsp;US: +16692545252,,1609251439#,,,,,,0#,,472885#&nbsp; or +16468287666,,1609251439#,,,,,,0#,,472885#</p><p><strong>International numbers</strong>: <a href="https://www.zoomgov.com/u/auztnsiIb">https://www.zoomgov.com/u/auztnsiIb</a></p><p><strong>Webinar ID</strong>: 160 925 1439 (Passcode: 472885)</p>
SUMMARY:Promising Practices in Health Equity: Obesity-Related Risk During COVID-19 and Barriers to Active Living
TRANSP:OPAQUE
UID:5f8ee458dd538
URL:https://emergency.cdc.gov/epic/learn/event-links/webinar_20201021.ics
END:VEVENT
END:VCALENDAR
