BEGIN:VCALENDAR
PRODID:-//CDC//WCMS//EN
VERSION:2.0
METHOD:PUBLISH
X-MS-OLK-FORCEINSPECTOROPEN:TRUE
BEGIN:VEVENT
CLASS:PUBLIC
CREATED:20200717T141641Z
DTSTAMP:20200717T141641Z
DTSTART:20200722T190000Z
DTEND:20200722T200000Z
LAST-MODIFIED:20200717T141641Z
LOCATION:
X-ALT-DESC;FMTTYPE=text/html:<p><strong>Webinar Title: <a href="/epic/learn/2020/webinar_20200722.asp">Supporting Children and Adolescents During COVID-19</a><br></strong><br><strong>Overview</strong><strong>: </strong>Children and adolescents may worry about themselves, their families, and their friends getting ill with COVID-19. Parents, family members, school staff, and other trusted adults can play an important role in helping children and adolescents make sense of what they hear in a way that is honest, accurate, and minimizes anxiety or fear. Join the CDC&rsquo;s Emergency Partners Information Connection (EPIC) and the National Child Traumatic Stress Network (NCTSN) on <strong>Wednesday</strong>, <strong>July 22 at 3 p.m. ET.</strong> Dr. Melissa Brymer, Director of the Terrorism and Disaster Program UCLA/Duke University National Center for Child Traumatic Stress will discuss possible ways to support young people during COVID-19. She will also describe NCTSN&rsquo;s available resources and outline how to have conversations with children and adolescents about what is happening. Closed captioning will be available.</p><p><strong>Date</strong>: Wednesday, July 22, 2020</p><p><strong>Time</strong>: 3 p.m. to 4 p.m. (Eastern Time)</p><p><strong>Webinar Link</strong>: <a href="https://www.zoomgov.com/j/1600934310" target="_blank" rel="noopener noreferrer">https://www.zoomgov.com/j/1600934310</a></p><p><strong>Dial In</strong>: US: +1 669 254 5252&nbsp; or +1 646 828 7666</p><p><strong>Or iPhone one-tap</strong>: US: +16692545252,,1605185661#&nbsp; or +16468287666,,1605185661#</p><p><strong>International numbers</strong>: <a href="https://www.zoomgov.com/u/ascf1iofR">https://www.zoomgov.com/u/ascf1iofR</a></p><p><strong>Webinar ID</strong>: 160 093 4310</p>
SUMMARY:CDC EPIC Webinar: Supporting Children and Adolescents During COVID-19
TRANSP:OPAQUE
UID:5f11b2c9a8eae
URL:https://emergency.cdc.gov/epic/learn/event-links/webinar_20200722.ics
END:VEVENT
END:VCALENDAR
