BEGIN:VCALENDAR
PRODID:-//CDC//WCMS//EN
VERSION:2.0
METHOD:PUBLISH
X-MS-OLK-FORCEINSPECTOROPEN:TRUE
BEGIN:VEVENT
CLASS:PUBLIC
CREATED:20200622T223409Z
DTSTAMP:20200622T223409Z
DTSTART:20200624T200000Z
DTEND:20200624T210000Z
LAST-MODIFIED:20200622T223409Z
LOCATION:
X-ALT-DESC;FMTTYPE=text/html:<p><strong>Webinar Title: <a href="https://emergency.cdc.gov/epic/learn/2020/webinar_20200624.asp">Your COVID-19 Questions Answered: Daily Life, Social Interaction, Returning to Work, and More</a><br></strong><br><strong>Overview</strong><strong>: </strong>The international outbreak of COVID-19 poses a serious public health threat that has severely affected social, community, and business activities. With prolonged periods of social distancing, the coming of summer, and the need to engage in more social and commercial activities, Americans must consider how to continue to reduce risk. This webinar from CDC&rsquo;s Emergency Partners Information Connection will discuss the current status of the pandemic in the U.S., factors to consider when deciding to participate in activities outside of the home, and special considerations for the upcoming Fourth of July weekend. Closed captioning will be available.</p><p><strong>Date</strong>: Wednesday, June 24, 2020</p><p><strong>Time</strong>: 4 p.m. to 5 p.m. (Eastern Time)</p><p><strong>Webinar Link</strong>: <a href="https://www.zoomgov.com/j/1605185661" target="_blank" rel="noopener noreferrer">https://www.zoomgov.com/j/1605185661</a></p><p><strong>Dial In</strong>: US: +1 669 254 5252&nbsp; or +1 646 828 7666</p><p><strong>Or iPhone one-tap</strong>: US: +16692545252,,1605185661#&nbsp; or +16468287666,,1605185661#</p><p><strong>International numbers</strong>: h<a href="ttps://www.zoomgov.com/u/axAZqw07G">ttps://www.zoomgov.com/u/axAZqw07G</a></p><p><strong>Webinar ID</strong>: 160 518 5661</p><p><strong>Watch on Facebook</strong>: You can also participate in this live webinar through the&nbsp;<a href="https://www.facebook.com/CDC" target="_blank" rel="noopener noreferrer">CDC Facebook</a>&nbsp;page on June 24 at 4 p.m. ET.</p>
SUMMARY:CDC EPIC Webinar: Your COVID-19 Questions Answered: Daily Life, Social Interaction, Returning to Work, and More
TRANSP:OPAQUE
UID:5ef131e1dc6bc
URL:https://emergency.cdc.gov/epic/learn/event-links/webinar_20200624.ics
END:VEVENT
END:VCALENDAR
