BEGIN:VCALENDAR
PRODID:-//CDC//WCMS//EN
VERSION:2.0
METHOD:PUBLISH
X-MS-OLK-FORCEINSPECTOROPEN:TRUE
BEGIN:VEVENT
CLASS:PUBLIC
CREATED:20200520T162826Z
DTSTAMP:20200520T162826Z
DTSTART:20200527T170000Z
DTEND:20200527T180000Z
LAST-MODIFIED:20200520T162826Z
LOCATION:
X-ALT-DESC;FMTTYPE=text/html:<p><strong>Webinar Title: <a href="https://emergency.cdc.gov/epic/learn/2020/webinar_20200527.asp">2020 Hurricane Season During COVID-19</a><br></strong><br><strong>Overview</strong><strong>:</strong></p><p>Are you prepared for the 2020 hurricane season while the world is also responding to COVID-19? CDC&rsquo;s National Center for Environmental Health is joining the CDC EPIC Team <strong>Wednesday</strong>, <strong>May 27, at 1 p.m. ET.</strong> CDC experts will discuss possible health risks that could come from hurricanes combined with COVID-19; planning for the 2020 hurricane season while adhering to guidance on social distancing; and how community leaders, nonprofit organizations, and public health professionals can effectively communicate messages. Closed captioning will be available.</p><p><strong>Date</strong>: Wednesday, May 27, 2020</p><p><strong>Watch on Facebook:</strong> You can participate in this live webinar through the <a href="https://www.facebook.com/cdcemergency/">CDC Emergency Preparedness and Response Facebook</a> page on May 27 at 1 p.m. ET.</p>
SUMMARY:2020 Hurricane Season During COVID-19
TRANSP:OPAQUE
UID:5ec55aaa21be3
URL:https://emergency.cdc.gov/epic/learn/event-links/webinar_20200527.ics
END:VEVENT
END:VCALENDAR
