BEGIN:VCALENDAR
PRODID:-//CDC//WCMS//EN
VERSION:2.0
METHOD:PUBLISH
X-MS-OLK-FORCEINSPECTOROPEN:TRUE
BEGIN:VEVENT
CLASS:PUBLIC
CREATED:20191118T161348Z
DTSTAMP:20191118T161348Z
DTSTART:20191204T180000Z
DTEND:20191204T190000Z
LAST-MODIFIED:20191118T161348Z
LOCATION:
X-ALT-DESC;FMTTYPE=text/html:<p><strong>Webinar Title: <a href="https://emergency.cdc.gov/epic/learn/webinar_20191204.asp">An Update on CDC&rsquo;s Response to E-cigarette, or Vaping, product use Associated Lung Injury (EVALI)</a><br></strong><br><strong>Overview</strong><strong>: </strong>The Centers for Disease Control and Prevention (CDC) is working with the Food and Drug Administration (FDA), state health departments, and public health and clinical partners to investigate the multistate outbreak of E-cigarette, or Vaping, product use Associated Lung Injury (EVALI). On September 16, 2019, CDC activated the Emergency Operations Center. Currently more than 150 staff members from across CDC and in the field are working to support the investigation. The latest national and state findings suggest e-cigarette, or vaping, products containing THC, particularly those obtained from informal sources (e.g. friends, family members, illicit dealers), are linked to most of the cases and play a major role in the outbreak. This webinar will be broadcast on <strong>December 4 at 1 p.m. ET</strong>. Topics will include the current status of the emergency response, recommendations, and resources for the public, healthcare providers, health departments, and other groups.</p><p><strong>Date</strong>: Wednesday, December 4, 2019</p><p><strong>Time:</strong> 1 p.m. to 2 p.m. (Eastern Time)</p><p><strong>Webinar Link</strong>: <a href="https://zoom.us/j/491863894">https://zoom.us/j/491863894</a><br><strong><br>Dial In:</strong><br>US: +1 646 876 9923<br>or +1 669 900 6833<br><a class="tp-link-policy" href="https://zoom.us/u/anixAVglV" data-domain-ext="us">International numbers</a></p><p><strong>iPhone one-tap:</strong><br>US: +16468769923,,491863894<br>or +16699006833,,491863894#</p><p><strong>Webinar ID</strong>: 491 863 894</p>
SUMMARY:Webinar: An Update on CDC’s Response to E-cigarette, or Vaping, product use Associated Lung Injury (EVALI)
TRANSP:OPAQUE
UID:5dd2c33c1b689
URL:https://emergency.cdc.gov/epic/learn/event-links/webinar_20191204.ics
END:VEVENT
END:VCALENDAR
