BEGIN:VCALENDAR
PRODID:-//CDC//WCMS//EN
VERSION:2.0
METHOD:PUBLISH
X-MS-OLK-FORCEINSPECTOROPEN:TRUE
BEGIN:VEVENT
CLASS:PUBLIC
CREATED:20200322T205337Z
DTSTAMP:20200322T205337Z
DTSTART:20200325T180000Z
DTEND:20200325T190000Z
LAST-MODIFIED:20200322T205337Z
LOCATION:https://emergency.cdc.gov/coca/calls/2020/callinfo_032520.asp
X-ALT-DESC;FMTTYPE=text/html:<p><strong>Webinar Title: <a href="https://emergency.cdc.gov/coca/calls/2020/callinfo_032520.asp">COVID-19 Update: Optimization Strategies for Healthcare Personal Protective Equipment (PPE)</a><br></strong></p><p>You may participate in this COCA Call via the Zoom platform or via Facebook Live.</p><p>If you are unable to attend the live&nbsp;COCA Call, it will be available for viewing on the <a href="https://emergency.cdc.gov/coca/calls/2020/callinfo_032420.asp">COCA website</a> a few hours after the live event ends. It will be available for viewing <strong><span style="font-family: 'Calibri',sans-serif;">immediately after</span></strong> the live event ends at 3:00 P.M. EDT on <a href="https://www.facebook.com/CDCClinicianOutreachAndCommunicationActivity/">COCA&rsquo;s Facebook page</a>.</p><p><strong>Overview</strong>:<br>During this COCA Call, presenters will provide a COVID-19 update and discuss strategies for healthcare facilities to optimize personal protective equipment (PPE) supplies such as eye protection, isolation gowns, facemasks, and N95 respirators.</p><p><strong>Date</strong>: Wednesday, March 25, 2020</p><p><strong>Time:</strong> 2 p.m. to 3 p.m. (Eastern Time)</p><p><strong>Webinar Link</strong>: <a href="https://www.zoomgov.com/j/1605586706">https://www.zoomgov.com/j/1605586706</a><br><strong><br>Dial In:</strong><br>US: +1 669 254 5252<br>or +1 646 828 7666</p><p><strong>iPhone one-tap:</strong><br>US: +16692545252,,1605586706#<br>or +16468287666,,1605586706#</p><p><strong>Webinar ID</strong>:<strong> 160 558 6706</strong></p><p><a class="tp-link-policy" href="https://zoom.us/u/anixAVglV" data-domain-ext="us">International numbers</a></p><p>Or an H.323/SIP room system:<br>H.323:<br>161.199.138.10 (US West)<br>161.199.136.10 (US East)<br>52<br>61<br>100.140</p><p><strong>Meeting ID: 160 558 6706</strong></p><p>SIP: <a href="mailto:1605586706@sip.zoomgov.com">1605586706@sip.zoomgov.com</a></p>
SUMMARY:Webinar: COVID-19 Update: Optimization Strategies for Healthcare Personal Protective Equipment (PPE)
TRANSP:OPAQUE
UID:5e77d051af1e5
URL:https://emergency.cdc.gov/coca/calls/2020/event-links/webinar_2020-03-25.ics
END:VEVENT
END:VCALENDAR
